BEGIN:VCALENDAR
VERSION:2.0
PRODID:-//Delta Sculling - ECPv6.15.20//NONSGML v1.0//EN
CALSCALE:GREGORIAN
METHOD:PUBLISH
X-WR-CALNAME:Delta Sculling
X-ORIGINAL-URL:https://deltasculling.org
X-WR-CALDESC:Events for Delta Sculling
REFRESH-INTERVAL;VALUE=DURATION:PT1H
X-Robots-Tag:noindex
X-PUBLISHED-TTL:PT1H
BEGIN:VTIMEZONE
TZID:UTC
BEGIN:STANDARD
TZOFFSETFROM:+0000
TZOFFSETTO:+0000
TZNAME:UTC
DTSTART:20240101T000000
END:STANDARD
END:VTIMEZONE
BEGIN:VEVENT
DTSTART;VALUE=DATE:20250503
DTEND;VALUE=DATE:20250504
DTSTAMP:20260420T191405
CREATED:20250224T204018Z
LAST-MODIFIED:20250228T035937Z
UID:18987-1746230400-1746316799@deltasculling.org
SUMMARY:Sculling 101
DESCRIPTION:
URL:https://deltasculling.org/events/sample-sculling-3/
LOCATION:CA
CATEGORIES:event
END:VEVENT
BEGIN:VEVENT
DTSTART;TZID=UTC:20250507T160000
DTEND;TZID=UTC:20250507T180000
DTSTAMP:20260420T191405
CREATED:20250319T204809Z
LAST-MODIFIED:20250327T161251Z
UID:19250-1746633600-1746640800@deltasculling.org
SUMMARY:Rowing towards a healthy future with Coach Hannabeth
DESCRIPTION:Rowing towards a healthy future with Coach Hannabeth is on Wednesdays from 4:00-6:00 now until the end of May. (Ambassador program with ABLE charter and ASSA).
URL:https://deltasculling.org/events/rowing-towards-a-healthy-future-with-coach-hannabeth-9/
LOCATION:CA
CATEGORIES:event
END:VEVENT
BEGIN:VEVENT
DTSTART;TZID=UTC:20250514T160000
DTEND;TZID=UTC:20250514T180000
DTSTAMP:20260420T191405
CREATED:20250319T204937Z
LAST-MODIFIED:20250327T161255Z
UID:19252-1747238400-1747245600@deltasculling.org
SUMMARY:Rowing towards a healthy future with Coach Hannabeth
DESCRIPTION:Rowing towards a healthy future with Coach Hannabeth is on Wednesdays from 4:00-6:00 now until the end of May. (Ambassador program with ABLE charter and ASSA).
URL:https://deltasculling.org/events/rowing-towards-a-healthy-future-with-coach-hannabeth-10/
LOCATION:CA
CATEGORIES:event
END:VEVENT
BEGIN:VEVENT
DTSTART;TZID=UTC:20250521T160000
DTEND;TZID=UTC:20250521T180000
DTSTAMP:20260420T191405
CREATED:20250319T205009Z
LAST-MODIFIED:20250327T161307Z
UID:19254-1747843200-1747850400@deltasculling.org
SUMMARY:Rowing towards a healthy future with Coach Hannabeth
DESCRIPTION:Rowing towards a healthy future with Coach Hannabeth is on Wednesdays from 4:00-6:00 now until the end of May. (Ambassador program with ABLE charter and ASSA).
URL:https://deltasculling.org/events/rowing-towards-a-healthy-future-with-coach-hannabeth-11/
LOCATION:CA
CATEGORIES:event
END:VEVENT
BEGIN:VEVENT
DTSTART;TZID=UTC:20250528T160000
DTEND;TZID=UTC:20250528T180000
DTSTAMP:20260420T191405
CREATED:20250319T205026Z
LAST-MODIFIED:20250327T161304Z
UID:19256-1748448000-1748455200@deltasculling.org
SUMMARY:Rowing towards a healthy future with Coach Hannabeth
DESCRIPTION:Rowing towards a healthy future with Coach Hannabeth is on Wednesdays from 4:00-6:00 now until the end of May. (Ambassador program with ABLE charter and ASSA).
URL:https://deltasculling.org/events/rowing-towards-a-healthy-future-with-coach-hannabeth-12/
LOCATION:CA
CATEGORIES:event
END:VEVENT
END:VCALENDAR