BEGIN:VCALENDAR
VERSION:2.0
PRODID:-//Delta Sculling - ECPv6.15.20//NONSGML v1.0//EN
CALSCALE:GREGORIAN
METHOD:PUBLISH
X-WR-CALNAME:Delta Sculling
X-ORIGINAL-URL:https://deltasculling.org
X-WR-CALDESC:Events for Delta Sculling
REFRESH-INTERVAL;VALUE=DURATION:PT1H
X-Robots-Tag:noindex
X-PUBLISHED-TTL:PT1H
BEGIN:VTIMEZONE
TZID:UTC
BEGIN:STANDARD
TZOFFSETFROM:+0000
TZOFFSETTO:+0000
TZNAME:UTC
DTSTART:20240101T000000
END:STANDARD
END:VTIMEZONE
BEGIN:VEVENT
DTSTART;VALUE=DATE:20250429
DTEND;VALUE=DATE:20250430
DTSTAMP:20260420T235713
CREATED:20250317T185115Z
LAST-MODIFIED:20250417T145750Z
UID:19187-1745884800-1745971199@deltasculling.org
SUMMARY:209 Gives
DESCRIPTION:https://www.209gives.org/organizations/delta-sculling-center
URL:https://deltasculling.org/events/209-gives/
LOCATION:CA
CATEGORIES:event,Upcoming Events
END:VEVENT
END:VCALENDAR