BEGIN:VCALENDAR
VERSION:2.0
PRODID:-//Delta Sculling - ECPv6.15.20//NONSGML v1.0//EN
CALSCALE:GREGORIAN
METHOD:PUBLISH
X-WR-CALNAME:Delta Sculling
X-ORIGINAL-URL:https://deltasculling.org
X-WR-CALDESC:Events for Delta Sculling
REFRESH-INTERVAL;VALUE=DURATION:PT1H
X-Robots-Tag:noindex
X-PUBLISHED-TTL:PT1H
BEGIN:VTIMEZONE
TZID:UTC
BEGIN:STANDARD
TZOFFSETFROM:+0000
TZOFFSETTO:+0000
TZNAME:UTC
DTSTART:20240101T000000
END:STANDARD
END:VTIMEZONE
BEGIN:VEVENT
DTSTART;VALUE=DATE:20250503
DTEND;VALUE=DATE:20250504
DTSTAMP:20260420T221914
CREATED:20250224T204018Z
LAST-MODIFIED:20250228T035937Z
UID:18987-1746230400-1746316799@deltasculling.org
SUMMARY:Sculling 101
DESCRIPTION:
URL:https://deltasculling.org/events/sample-sculling-3/
LOCATION:CA
CATEGORIES:event
END:VEVENT
END:VCALENDAR