BEGIN:VCALENDAR
VERSION:2.0
PRODID:-//Delta Sculling - ECPv6.15.20//NONSGML v1.0//EN
CALSCALE:GREGORIAN
METHOD:PUBLISH
X-WR-CALNAME:Delta Sculling
X-ORIGINAL-URL:https://deltasculling.org
X-WR-CALDESC:Events for Delta Sculling
REFRESH-INTERVAL;VALUE=DURATION:PT1H
X-Robots-Tag:noindex
X-PUBLISHED-TTL:PT1H
BEGIN:VTIMEZONE
TZID:UTC
BEGIN:STANDARD
TZOFFSETFROM:+0000
TZOFFSETTO:+0000
TZNAME:UTC
DTSTART:20240101T000000
END:STANDARD
END:VTIMEZONE
BEGIN:VEVENT
DTSTART;TZID=UTC:20250617T080000
DTEND;TZID=UTC:20250619T110000
DTSTAMP:20260420T191803
CREATED:20250310T085220Z
LAST-MODIFIED:20250310T085220Z
UID:19131-1750147200-1750330800@deltasculling.org
SUMMARY:3 day camps
DESCRIPTION:
URL:https://deltasculling.org/events/3-day-camps/
LOCATION:CA
CATEGORIES:Upcoming Events
END:VEVENT
END:VCALENDAR